BEGIN:VCALENDAR
VERSION:2.0
PRODID:-//Cafe Self - ECPv6.15.20//NONSGML v1.0//EN
CALSCALE:GREGORIAN
METHOD:PUBLISH
X-WR-CALNAME:Cafe Self
X-ORIGINAL-URL:https://irinakotlar.uk
X-WR-CALDESC:Events for Cafe Self
REFRESH-INTERVAL;VALUE=DURATION:PT1H
X-Robots-Tag:noindex
X-PUBLISHED-TTL:PT1H
BEGIN:VTIMEZONE
TZID:UTC
BEGIN:STANDARD
TZOFFSETFROM:+0000
TZOFFSETTO:+0000
TZNAME:UTC
DTSTART:20220101T000000
END:STANDARD
END:VTIMEZONE
BEGIN:VEVENT
DTSTART;TZID=UTC:20241109T143000
DTEND;TZID=UTC:20241109T173000
DTSTAMP:20260419T181726
CREATED:20241018T161852Z
LAST-MODIFIED:20241104T233345Z
UID:2682-1731162600-1731173400@irinakotlar.uk
SUMMARY:Yin Yang Journaling
DESCRIPTION:Saturday November the 9th 2024 at 2:30pm UK time (9:30am ET) \n3 hours online training with Angela Mendes and Irina Kotlar  \nYin Yang Journaling:  \n\nwhy it matters to know where you are\ntips to address and narrow the discrepancy from where you are to where you are going\nyou will experience 3 types of different ways of journaling\nyou will practice journaling stream of consciousness\, with questions and prompts.\n\nOutline will be sent to you when you register for the event. \n  \n Register for Yin-Yang Journaling (Online Workshop)  \n 
URL:https://irinakotlar.uk/event/yin-yang-journaling/
LOCATION:Online
ATTACH;FMTTYPE=image/jpeg:https://irinakotlar.uk/wp-content/uploads/2024/10/57f748d6-a35f-4f89-a44f-0deffab0bbd8-2.jpg
ORGANIZER;CN="Colourpuncture Academy":MAILTO:colourpuncture.uk@gmail.com
END:VEVENT
BEGIN:VEVENT
DTSTART;TZID=UTC:20231103T120000
DTEND;TZID=UTC:20231103T130000
DTSTAMP:20260419T181726
CREATED:20210526T171438Z
LAST-MODIFIED:20231101T144454Z
UID:1367-1699012800-1699016400@irinakotlar.uk
SUMMARY:FREE Cafe Self Q&A sessions
DESCRIPTION:1 hr online Q&A session on any topic from Cafe Self: \n\nColourpuncture for Health and Wellbeing\nQuestions to the Soul – journaling prompts\nDreamwork\nJournalling\nAcupressure/Colourpuncture for Soul and Spirit\n\n  \nIf you would like your question answered please get in touch now! \n  \n\n										Name: *\n										\n										Email Address: *\n									\n										\n										Subject: *\n									\n									\n									Message: *\n								\n									\n							\n							\n							\n							\n						\n			\n			\n  \n \n 
URL:https://irinakotlar.uk/event/free-cafe-self-qa-session/
LOCATION:Online
ATTACH;FMTTYPE=image/jpeg:https://irinakotlar.uk/wp-content/uploads/2021/05/IMG_2948.jpg
ORGANIZER;CN="Cafe Self Ltd":MAILTO:colourpuncture.uk@gmail.com
END:VEVENT
BEGIN:VEVENT
DTSTART;TZID=UTC:20231103T120000
DTEND;TZID=UTC:20231103T130000
DTSTAMP:20260419T181726
CREATED:20210426T184256Z
LAST-MODIFIED:20231101T144411Z
UID:1373-1699012800-1699016400@irinakotlar.uk
SUMMARY:FREE Colourpuncture Q&A sessions
DESCRIPTION:Stay on top of your Colourpuncture learning and practice with our FREE online Colourpuncture Q&A sessions from Colourpuncture Academy – now within our Cafe Self Q&A live calls so you can also ask your questions on Dreamwork\, Journaling and general processing of Colourpuncture. \nTo ask your question about Colourpuncture reserve your place now using the form below! \nIf you would like to learn creating your own  Colourpuncture protocols\, get support with your clinical cases and your personal healing journey join our Creative Colourpuncture Membership group. \nMeanwhile you may wish to visit our \n\nColourpuncture Library\nCafe Self YouTube Channel\n\nwhere we will be adding new materials from our Q&A calls as we process them. Any Colourpuncture questions before our next Q&A call – please contact us using the form below. We are here and happy to help! \n\n										Name: *\n										\n										Email Address: *\n									\n										\n										Subject: *\n									\n									\n									Message: *
URL:https://irinakotlar.uk/event/free-colourpuncture-qa-session/
LOCATION:Online
ATTACH;FMTTYPE=image/jpeg:https://irinakotlar.uk/wp-content/uploads/2022/10/99C9982-scaled.jpg
ORGANIZER;CN="Colourpuncture Academy":MAILTO:colourpuncture.uk@gmail.com
END:VEVENT
END:VCALENDAR